BEGIN:VCALENDAR
VERSION:2.0
PRODID:-//wp-events-plugin.com//7.2.3.1//EN
TZID:America/Denver
X-WR-TIMEZONE:America/Denver
BEGIN:VEVENT
UID:1808@westcusterlibrary.org
DTSTART;TZID=America/Denver:20250225T173000
DTEND;TZID=America/Denver:20250225T183000
DTSTAMP:20250113T192454Z
URL:https://www.westcusterlibrary.org/events/pet-photography/
SUMMARY:Pet Photography
DESCRIPTION:Whether you want to pursue fine art portraiture\, capture great
  memories to share with friends and family\, or take effective photos for 
 identification in case your pet goes missing\, Sandra Dalton will teach yo
 u basic techniques to turn your pet photography from “blah” to captiva
 ting. Regardless of what type of equipment you have\, or experience level\
 , you can take photos that capture your pet’s unique essence and persona
 lity!\n Open to anyone who would like to take amazing photos of pets or r
 escue animals.  Registration for the class is required.
ATTACH;FMTTYPE=image/jpeg:https://www.westcusterlibrary.org/wp-content/upl
 oads/2025/01/67183413-f20f-4a4f-817a-210eae1044fd-1.png
CATEGORIES:Adults
LOCATION:West Custer County Library Community Room\, 209 Main St\, Westclif
 fe\, CO\, United States
GEO:38.136419;-105.467999
X-APPLE-STRUCTURED-LOCATION;VALUE=URI;X-ADDRESS=209 Main St\, Westcliffe\, 
 CO\, United States;X-APPLE-RADIUS=100;X-TITLE=West Custer County Library C
 ommunity Room:geo:38.136419,-105.467999
END:VEVENT
BEGIN:VTIMEZONE
TZID:America/Denver
X-LIC-LOCATION:America/Denver
BEGIN:STANDARD
DTSTART:20241103T010000
TZOFFSETFROM:-0600
TZOFFSETTO:-0700
TZNAME:MST
END:STANDARD
END:VTIMEZONE
END:VCALENDAR