BEGIN:VCALENDAR
VERSION:2.0
PRODID:-//wp-events-plugin.com//7.2.3.1//EN
TZID:America/Denver
X-WR-TIMEZONE:America/Denver
BEGIN:VEVENT
UID:2121@westcusterlibrary.org
DTSTART;TZID=America/Denver:20250725T143000
DTEND;TZID=America/Denver:20250725T153000
DTSTAMP:20250712T190142Z
URL:https://www.westcusterlibrary.org/events/percussion-workshop-part-2/
SUMMARY:PERCUSSION WORKSHOP PART 2
DESCRIPTION:Colorado Conservatory for the Jazz Arts presents a fun and exci
 ting opportunity for 11- 15 yr. olds.\n\nPART 2:\n\nPlay the grooves you l
 earned earlier with a LIVE Latin Jazz Band.\n\nAll classes are free and op
 en to the Westcliffe Community!!
ATTACH;FMTTYPE=image/jpeg:https://www.westcusterlibrary.org/wp-content/upl
 oads/2025/07/jazzpercussion.png
CATEGORIES:High School Students,Teens (ages 11-18),Teens (ages 13-18)
LOCATION:West Custer County Library Community Room\, 209 Main St\, Westclif
 fe\, CO\, United States
GEO:38.136419;-105.467999
X-APPLE-STRUCTURED-LOCATION;VALUE=URI;X-ADDRESS=209 Main St\, Westcliffe\, 
 CO\, United States;X-APPLE-RADIUS=100;X-TITLE=West Custer County Library C
 ommunity Room:geo:38.136419,-105.467999
END:VEVENT
BEGIN:VTIMEZONE
TZID:America/Denver
X-LIC-LOCATION:America/Denver
BEGIN:DAYLIGHT
DTSTART:20250309T030000
TZOFFSETFROM:-0700
TZOFFSETTO:-0600
TZNAME:MDT
END:DAYLIGHT
END:VTIMEZONE
END:VCALENDAR