BEGIN:VCALENDAR
VERSION:2.0
PRODID:-//wp-events-plugin.com//7.2.3.1//EN
TZID:America/Denver
X-WR-TIMEZONE:America/Denver
BEGIN:VEVENT
UID:2120@westcusterlibrary.org
DTSTART;TZID=America/Denver:20250725T110000
DTEND;TZID=America/Denver:20250725T121500
DTSTAMP:20250712T190050Z
URL:https://www.westcusterlibrary.org/events/percussion-workshop-part-1/
SUMMARY:PERCUSSION WORKSHOP PART 1
DESCRIPTION:Colorado Conservatory for the Jazz Arts presents an exciting op
 portunity for teens 11-15 yrs old.\n\nPART 1:\n\nLearn how to play Latin g
 rooves with traditional Latin percussion instruments.\n\nAll classes are f
 ree and open to the Westcliffe Community!
ATTACH;FMTTYPE=image/jpeg:https://www.westcusterlibrary.org/wp-content/upl
 oads/2025/07/jazzpercussion.png
CATEGORIES:High School Students,Teens (ages 11-18),Teens (ages 13-18)
LOCATION:West Custer County Library Community Room\, 209 Main St\, Westclif
 fe\, CO\, United States
GEO:38.136419;-105.467999
X-APPLE-STRUCTURED-LOCATION;VALUE=URI;X-ADDRESS=209 Main St\, Westcliffe\, 
 CO\, United States;X-APPLE-RADIUS=100;X-TITLE=West Custer County Library C
 ommunity Room:geo:38.136419,-105.467999
END:VEVENT
BEGIN:VTIMEZONE
TZID:America/Denver
X-LIC-LOCATION:America/Denver
BEGIN:DAYLIGHT
DTSTART:20250309T030000
TZOFFSETFROM:-0700
TZOFFSETTO:-0600
TZNAME:MDT
END:DAYLIGHT
END:VTIMEZONE
END:VCALENDAR