BEGIN:VCALENDAR
VERSION:2.0
PRODID:-//wp-events-plugin.com//7.2.3.1//EN
TZID:America/Denver
X-WR-TIMEZONE:America/Denver
BEGIN:VEVENT
UID:264@westcusterlibrary.org
DTSTART;TZID=America/Denver:20221101T130000
DTEND;TZID=America/Denver:20221101T170000
DTSTAMP:20221018T152326Z
URL:https://www.westcusterlibrary.org/events/patron-appreciation-day-and-q
 uilt-dedication-at-the-library/
SUMMARY:Patron Appreciation Day at the Library
DESCRIPTION:We are thankful for you\, our patrons! To express our appreciat
 ion\, the West Custer County Library staff will host a Patron Appreciation
  Day on November 1st from 1 p.m. ‘til 5 p.m. in the Library’s Communit
 y Room. Come view the Freedom to Read Quilt created especially for the Wes
 t Custer County Library by the Westcliffe Art Quilters\, celebrate the Lib
 rary’s thirty four years in Custer County\,  enjoy free coffee and trea
 ts\, meet the Library Co-Directors and have an opportunity to join the Fri
 ends of the Library. Exciting things are on the horizon for your library a
 nd we are looking forward to sharing them with you as we celebrate our com
 munity.
ATTACH;FMTTYPE=image/jpeg:https://www.westcusterlibrary.org/wp-content/upl
 oads/2022/10/8097fc7f-605c-4d11-adf5-2eeef6fd1b16.png
CATEGORIES:Adults,Family
END:VEVENT
BEGIN:VTIMEZONE
TZID:America/Denver
X-LIC-LOCATION:America/Denver
BEGIN:DAYLIGHT
DTSTART:20220313T030000
TZOFFSETFROM:-0700
TZOFFSETTO:-0600
TZNAME:MDT
END:DAYLIGHT
END:VTIMEZONE
END:VCALENDAR