BEGIN:VCALENDAR
VERSION:2.0
PRODID:-//wp-events-plugin.com//7.2.3.1//EN
TZID:America/Denver
X-WR-TIMEZONE:America/Denver
BEGIN:VEVENT
UID:1813@westcusterlibrary.org
DTSTART;TZID=America/Denver:20250128T170000
DTEND;TZID=America/Denver:20250128T180000
DTSTAMP:20250121T214821Z
URL:https://www.westcusterlibrary.org/events/part-1-of-3-workshops-for-sma
 ll-business/
SUMMARY:Small Business Workshop
DESCRIPTION:Thinking about starting a business or hope to be on a successfu
 l business track?  Here's a workshop to help you start and succeed with y
 our small business.\nWhat we'll cover:\nWhat is your business why?  How t
 o attract and keep customers with imaging and messaging?  Structuring you
 r business: accounting\, finance\, and regulations.  Business pros share 
 what they know. Learn business tips from successful entrepreneurs at these
  sessions.\nRegistration is recommended.
ATTACH;FMTTYPE=image/jpeg:https://www.westcusterlibrary.org/wp-content/upl
 oads/2025/01/7ef04a5f-f558-425b-9c14-181020f32630.png
CATEGORIES:Adults
LOCATION:West Custer County Library Community Room\, 209 Main St\, Westclif
 fe\, CO\, United States
GEO:38.136419;-105.467999
X-APPLE-STRUCTURED-LOCATION;VALUE=URI;X-ADDRESS=209 Main St\, Westcliffe\, 
 CO\, United States;X-APPLE-RADIUS=100;X-TITLE=West Custer County Library C
 ommunity Room:geo:38.136419,-105.467999
END:VEVENT
BEGIN:VTIMEZONE
TZID:America/Denver
X-LIC-LOCATION:America/Denver
BEGIN:STANDARD
DTSTART:20241103T010000
TZOFFSETFROM:-0600
TZOFFSETTO:-0700
TZNAME:MST
END:STANDARD
END:VTIMEZONE
END:VCALENDAR