BEGIN:VCALENDAR
VERSION:2.0
PRODID:-//wp-events-plugin.com//7.2.3.1//EN
TZID:America/Denver
X-WR-TIMEZONE:America/Denver
BEGIN:VEVENT
UID:1811@westcusterlibrary.org
DTSTART;TZID=America/Denver:20250205T130000
DTEND;TZID=America/Denver:20250205T140000
DTSTAMP:20250108T184130Z
URL:https://www.westcusterlibrary.org/events/obesity-talk/
SUMMARY:Obesity Talk
DESCRIPTION:\nJoin Darcy Rhodes RD at the West Custer County Library for a 
 talk on the subject of Obesity. This topic is extremely broad and could sp
 an multiple classes! In this class\, we will focus on a brief definition o
 f Obesity and BMI\, some problems with the classification\, touch on some 
 of the myriad factors that contribute to Obesity\, today focusing on certa
 in foods and medications that affect appetite\, and finally\, share some h
 ealthy lifestyle tips and steps you can take to improve your health now.\n
 \nThis is Darcy’s third class at the WCCL. She previously spoke about pr
 ediabetes and brain health. Darcy is a Registered Dietitian and also has a
  certificate of training in Obesity and weight management. Darcy lives and
  works locally and enjoys teaching wellness classes here\, at Altitude Fit
 ness\, and at Pines Ranch wellness fairs! In her (limited!) spare time\, s
 he enjoys cooking\, baking\, and yoga.
ATTACH;FMTTYPE=image/jpeg:https://www.westcusterlibrary.org/wp-content/upl
 oads/2025/01/6c4a9f61-a682-4f9f-b6c0-24cad4b6f0c0.png
CATEGORIES:Adults
LOCATION:West Custer County Library Community Room\, 209 Main St\, Westclif
 fe\, CO\, United States
GEO:38.136419;-105.467999
X-APPLE-STRUCTURED-LOCATION;VALUE=URI;X-ADDRESS=209 Main St\, Westcliffe\, 
 CO\, United States;X-APPLE-RADIUS=100;X-TITLE=West Custer County Library C
 ommunity Room:geo:38.136419,-105.467999
END:VEVENT
BEGIN:VTIMEZONE
TZID:America/Denver
X-LIC-LOCATION:America/Denver
BEGIN:STANDARD
DTSTART:20241103T010000
TZOFFSETFROM:-0600
TZOFFSETTO:-0700
TZNAME:MST
END:STANDARD
END:VTIMEZONE
END:VCALENDAR