BEGIN:VCALENDAR
VERSION:2.0
PRODID:-//wp-events-plugin.com//7.2.3.1//EN
TZID:America/Denver
X-WR-TIMEZONE:America/Denver
BEGIN:VEVENT
UID:2565@westcusterlibrary.org
DTSTART;TZID=America/Denver:20251125T100000
DTEND;TZID=America/Denver:20251125T120000
DTSTAMP:20251104T185716Z
URL:https://www.westcusterlibrary.org/events/now-and-grief-a-grief-educati
 on-and-support-group/
SUMMARY:NOW and GRIEF a Grief Education and Support Group
DESCRIPTION:Robin Olsen of Central Colorado Area on Aging is starting a new
  group called Now and Grief.  Grief education as well as supporting each 
 other through sharing will be explored during the one-hour sessions on the
  fourth Tuesday of the month.  This will be a drop-in group\, but all are
  encouraged to attend as often as possible for community and working throu
 gh the "now and then" of grief.
ATTACH;FMTTYPE=image/jpeg:https://www.westcusterlibrary.org/wp-content/upl
 oads/2025/11/7f554f52-43a9-4e86-b40b-0353d0d0e172.png
CATEGORIES:Adults
LOCATION:West Custer County Library Community Room\, 209 Main St\, Westclif
 fe\, CO\, United States
GEO:38.136419;-105.467999
X-APPLE-STRUCTURED-LOCATION;VALUE=URI;X-ADDRESS=209 Main St\, Westcliffe\, 
 CO\, United States;X-APPLE-RADIUS=100;X-TITLE=West Custer County Library C
 ommunity Room:geo:38.136419,-105.467999
END:VEVENT
BEGIN:VTIMEZONE
TZID:America/Denver
X-LIC-LOCATION:America/Denver
BEGIN:STANDARD
DTSTART:20251102T010000
TZOFFSETFROM:-0600
TZOFFSETTO:-0700
TZNAME:MST
END:STANDARD
END:VTIMEZONE
END:VCALENDAR