BEGIN:VCALENDAR
VERSION:2.0
PRODID:-//wp-events-plugin.com//7.2.3.1//EN
TZID:America/Denver
X-WR-TIMEZONE:America/Denver
BEGIN:VEVENT
UID:2864@westcusterlibrary.org
DTSTART;TZID=America/Denver:20260402T100000
DTEND;TZID=America/Denver:20260402T111500
DTSTAMP:20260330T173704Z
URL:https://www.westcusterlibrary.org/events/neighbors-helping-neighbors/
SUMMARY:Neighbors Helping Neighbors Senior Education Series Aging with Grac
 e in Custer County Session 1 Co-Sponsor Landing Well
DESCRIPTION:Aging doesn't have to mean aging alone. As we grow older indepe
 ndent living can become more challenging.  Neighbors Helping Neighbors is
  a community-based\, volunteer-driven program that connects local resident
 s with trusted neighbors to lend a hand - offering  help\, companionship\
 , and community right here in the Wet Mountain Valley.  The goal is of th
 e group is to provide services that help members remain independent\, acti
 ve\, socially connected while living in their homes and community as long 
 as possible.  The session will be led by Cheryl Yankoff of the Central Co
 lorado Area Agency on Aging.  Learn more by attending this session or vis
 it custer.helpfulvillage.com
ATTACH;FMTTYPE=image/jpeg:https://www.westcusterlibrary.org/wp-content/upl
 oads/2026/03/1a5cd0a9-5930-47b6-900b-e5b3f23afc76.png
CATEGORIES:Adults,Senior Adults
LOCATION:West Custer County Library Community Room\, 209 Main St\, Westclif
 fe\, CO\, United States
GEO:38.136419;-105.467999
X-APPLE-STRUCTURED-LOCATION;VALUE=URI;X-ADDRESS=209 Main St\, Westcliffe\, 
 CO\, United States;X-APPLE-RADIUS=100;X-TITLE=West Custer County Library C
 ommunity Room:geo:38.136419,-105.467999
END:VEVENT
BEGIN:VTIMEZONE
TZID:America/Denver
X-LIC-LOCATION:America/Denver
BEGIN:DAYLIGHT
DTSTART:20260308T030000
TZOFFSETFROM:-0700
TZOFFSETTO:-0600
TZNAME:MDT
END:DAYLIGHT
END:VTIMEZONE
END:VCALENDAR