BEGIN:VCALENDAR
VERSION:2.0
PRODID:-//wp-events-plugin.com//7.2.3.1//EN
TZID:America/Denver
X-WR-TIMEZONE:America/Denver
BEGIN:VEVENT
UID:2180@westcusterlibrary.org
DTSTART;TZID=America/Denver:20250910T133000
DTEND;TZID=America/Denver:20250910T143000
DTSTAMP:20250731T172058Z
URL:https://www.westcusterlibrary.org/events/mountain-memories-voices-of-t
 he-valley-oral-history-presentation/
SUMMARY:Mountain Memories: Voices of the Valley Oral History Presentation
DESCRIPTION:Join Genna Calkins and Bev Allen to celebrate Wet Mountain Vall
 ey history and hear about the relaunch of the West Custer County Library D
 istrict's oral history archive\, now available digitally! Genna will share
  a brief history of the collection\, as well as demo how to access the ora
 l histories through the library's website\, while Bev Allen will read a fe
 w highlights from the recordings.
ATTACH;FMTTYPE=image/jpeg:https://www.westcusterlibrary.org/wp-content/upl
 oads/2025/07/Mountain-Memories.png
CATEGORIES:Adults
LOCATION:West Custer County Library Community Room\, 209 Main St\, Westclif
 fe\, CO\, United States
GEO:38.136419;-105.467999
X-APPLE-STRUCTURED-LOCATION;VALUE=URI;X-ADDRESS=209 Main St\, Westcliffe\, 
 CO\, United States;X-APPLE-RADIUS=100;X-TITLE=West Custer County Library C
 ommunity Room:geo:38.136419,-105.467999
END:VEVENT
BEGIN:VTIMEZONE
TZID:America/Denver
X-LIC-LOCATION:America/Denver
BEGIN:DAYLIGHT
DTSTART:20250309T030000
TZOFFSETFROM:-0700
TZOFFSETTO:-0600
TZNAME:MDT
END:DAYLIGHT
END:VTIMEZONE
END:VCALENDAR