BEGIN:VCALENDAR
VERSION:2.0
PRODID:-//wp-events-plugin.com//7.2.3.1//EN
TZID:America/Denver
X-WR-TIMEZONE:America/Denver
BEGIN:VEVENT
UID:2005@westcusterlibrary.org
DTSTART;TZID=America/Denver:20250807T090000
DTEND;TZID=America/Denver:20250807T110000
DTSTAMP:20250325T200558Z
URL:https://www.westcusterlibrary.org/events/mother-baby-cafe-5-2025-08-07
 /
SUMMARY:Mother Baby Cafe
DESCRIPTION:Enjoy community\, education\, hands on newborn care\, breast fe
 eding support from Brittany Burke\, certified birth and post partum doula 
 & certified lactation consultant.\n\n
ATTACH;FMTTYPE=image/jpeg:https://www.westcusterlibrary.org/wp-content/upl
 oads/2025/03/new-motherbabycafe.png
CATEGORIES:Mother &amp; Baby
LOCATION:West Custer County Library Community Room\, 209 Main St\, Westclif
 fe\, CO\, United States
GEO:38.136419;-105.467999
X-APPLE-STRUCTURED-LOCATION;VALUE=URI;X-ADDRESS=209 Main St\, Westcliffe\, 
 CO\, United States;X-APPLE-RADIUS=100;X-TITLE=West Custer County Library C
 ommunity Room:geo:38.136419,-105.467999
END:VEVENT
BEGIN:VTIMEZONE
TZID:America/Denver
X-LIC-LOCATION:America/Denver
BEGIN:DAYLIGHT
DTSTART:20250309T030000
TZOFFSETFROM:-0700
TZOFFSETTO:-0600
TZNAME:MDT
END:DAYLIGHT
END:VTIMEZONE
END:VCALENDAR