BEGIN:VCALENDAR
VERSION:2.0
PRODID:-//wp-events-plugin.com//7.2.3.1//EN
TZID:America/Denver
X-WR-TIMEZONE:America/Denver
BEGIN:VEVENT
UID:2002@westcusterlibrary.org
DTSTART;TZID=America/Denver:20250501T090000
DTEND;TZID=America/Denver:20250501T110000
DTSTAMP:20250501T000052Z
URL:https://www.westcusterlibrary.org/events/mother-baby-cafe-5-2025-05-01
 /
SUMMARY:Mother Baby Cafe CANCELLED
DESCRIPTION:Mother Baby Cafe is reschedule for May 8th and will be meeting 
 at Hermit Park from 9am-11am.
ATTACH;FMTTYPE=image/jpeg:https://www.westcusterlibrary.org/wp-content/upl
 oads/2025/03/MBCupdate5-1.png
CATEGORIES:Mother &amp; Baby
LOCATION:West Custer County Library Community Room\, 209 Main St\, Westclif
 fe\, CO\, United States
GEO:38.136419;-105.467999
X-APPLE-STRUCTURED-LOCATION;VALUE=URI;X-ADDRESS=209 Main St\, Westcliffe\, 
 CO\, United States;X-APPLE-RADIUS=100;X-TITLE=West Custer County Library C
 ommunity Room:geo:38.136419,-105.467999
END:VEVENT
BEGIN:VTIMEZONE
TZID:America/Denver
X-LIC-LOCATION:America/Denver
BEGIN:DAYLIGHT
DTSTART:20250309T030000
TZOFFSETFROM:-0700
TZOFFSETTO:-0600
TZNAME:MDT
END:DAYLIGHT
END:VTIMEZONE
END:VCALENDAR