BEGIN:VCALENDAR
VERSION:2.0
PRODID:-//wp-events-plugin.com//7.2.3.1//EN
TZID:America/Denver
X-WR-TIMEZONE:America/Denver
BEGIN:VEVENT
UID:1504@westcusterlibrary.org
DTSTART;TZID=America/Denver:20250102T090000
DTEND;TZID=America/Denver:20250102T110000
DTSTAMP:20241227T192553Z
URL:https://www.westcusterlibrary.org/events/mother-baby-cafe-3-2025-01-02
 /
SUMMARY:MOTHER BABY CAFE
DESCRIPTION:Miranda Hanan of OF FOREST & HUMAN\, a post-partum doula\, will
  be having a time for 3rd Trimester and post-partum moms. \n\nConnect with
  other mothers in the community and learn some helpful tips for self-care 
 during 3rd Trimester pregnancy and after birth. 
ATTACH;FMTTYPE=image/jpeg:https://www.westcusterlibrary.org/wp-content/upl
 oads/2024/08/Mother-baby-cafe-regular.png
CATEGORIES:Mother &amp; Baby
LOCATION:West Custer County Library Community Room\, 209 Main St\, Westclif
 fe\, CO\, United States
GEO:38.136419;-105.467999
X-APPLE-STRUCTURED-LOCATION;VALUE=URI;X-ADDRESS=209 Main St\, Westcliffe\, 
 CO\, United States;X-APPLE-RADIUS=100;X-TITLE=West Custer County Library C
 ommunity Room:geo:38.136419,-105.467999
END:VEVENT
BEGIN:VTIMEZONE
TZID:America/Denver
X-LIC-LOCATION:America/Denver
BEGIN:STANDARD
DTSTART:20241103T010000
TZOFFSETFROM:-0600
TZOFFSETTO:-0700
TZNAME:MST
END:STANDARD
END:VTIMEZONE
END:VCALENDAR