BEGIN:VCALENDAR
VERSION:2.0
PRODID:-//wp-events-plugin.com//7.2.3.1//EN
TZID:America/Denver
X-WR-TIMEZONE:America/Denver
BEGIN:VEVENT
UID:2061@westcusterlibrary.org
DTSTART;TZID=America/Denver:20250506T113000
DTEND;TZID=America/Denver:20250506T130000
DTSTAMP:20250402T193729Z
URL:https://www.westcusterlibrary.org/events/more-on-dementia-family-histo
 ry-genetics-dementia-alzheimers/
SUMMARY:More on Dementia: Family History\, Genetics\, Dementia\, & Alzheime
 r's
DESCRIPTION:Please join the Alzheimer's Association of Colorado and the Uni
 versity of Colorado Alzheimer's and Cognition Center for a program on the 
 role that family history and genetics play in dementia.  The medical pres
 enters will explore how family history and genetics influence risk of deve
 loping dementia and the role that these are playing in advancements in dia
 gnostics\, treatment\, and care.  This is Zoom Webinar please register on
 line by visiting alz.org/CRF or call 1-800-272-3900.
ATTACH;FMTTYPE=image/jpeg:https://www.westcusterlibrary.org/wp-content/upl
 oads/2025/04/237c887c-35bb-4e0b-a8c8-48630cc0843f.png
CATEGORIES:Adults
END:VEVENT
BEGIN:VTIMEZONE
TZID:America/Denver
X-LIC-LOCATION:America/Denver
BEGIN:DAYLIGHT
DTSTART:20250309T030000
TZOFFSETFROM:-0700
TZOFFSETTO:-0600
TZNAME:MDT
END:DAYLIGHT
END:VTIMEZONE
END:VCALENDAR