BEGIN:VCALENDAR
VERSION:2.0
PRODID:-//wp-events-plugin.com//7.2.3.1//EN
TZID:America/Denver
X-WR-TIMEZONE:America/Denver
BEGIN:VEVENT
UID:1974@westcusterlibrary.org
DTSTART;TZID=America/Denver:20250320T151500
DTEND;TZID=America/Denver:20250320T161500
DTSTAMP:20250314T215638Z
URL:https://www.westcusterlibrary.org/events/meeting-change-tween-book-clu
 b/
SUMMARY:*Meeting Change* Tween Book Club
DESCRIPTION:*Special Meeting Time*\n\nMeet in the Library Community room an
 d Join Barb jones for a discussion on this weeks book: Dark Is Rising. 
ATTACH;FMTTYPE=image/jpeg:https://www.westcusterlibrary.org/wp-content/upl
 oads/2025/03/tweenclubmarch.png
CATEGORIES:Age 9-14,High School Students,Teens (ages 11-18)
LOCATION:West Custer County Library Community Room\, 209 Main St\, Westclif
 fe\, CO\, United States
GEO:38.136419;-105.467999
X-APPLE-STRUCTURED-LOCATION;VALUE=URI;X-ADDRESS=209 Main St\, Westcliffe\, 
 CO\, United States;X-APPLE-RADIUS=100;X-TITLE=West Custer County Library C
 ommunity Room:geo:38.136419,-105.467999
END:VEVENT
BEGIN:VTIMEZONE
TZID:America/Denver
X-LIC-LOCATION:America/Denver
BEGIN:DAYLIGHT
DTSTART:20250309T030000
TZOFFSETFROM:-0700
TZOFFSETTO:-0600
TZNAME:MDT
END:DAYLIGHT
END:VTIMEZONE
END:VCALENDAR