BEGIN:VCALENDAR
VERSION:2.0
PRODID:-//wp-events-plugin.com//7.2.3.1//EN
TZID:America/Denver
X-WR-TIMEZONE:America/Denver
BEGIN:VEVENT
UID:2256@westcusterlibrary.org
DTSTART;TZID=America/Denver:20250926T100000
DTEND;TZID=America/Denver:20250926T110000
DTSTAMP:20250829T171816Z
URL:https://www.westcusterlibrary.org/events/meet-greet-with-superintenden
 t-kyle-hebberd/
SUMMARY:Meet & Greet with Superintendent Kyle Hebberd
DESCRIPTION:Put on your "listening ears" and bring your questions for the n
 ew interim superintendent Kyle Hebberd.\n\nFREE COFFEE &amp\; DONUTS
ATTACH;FMTTYPE=image/jpeg:https://www.westcusterlibrary.org/wp-content/upl
 oads/2025/08/superintendent-meet-Greet.png
CATEGORIES:Adults,Age 9-14,Family,High School Students,Infant to Pre-K
 (ages 0-5),Kids (ages 5-10),Kids (ages 6-16),Mother &amp; Baby,Senior
 Adults,Teens (ages 11-18),Teens (ages 13-18),Veterans
LOCATION:West Custer County Library Community Room\, 209 Main St\, Westclif
 fe\, CO\, United States
GEO:38.136419;-105.467999
X-APPLE-STRUCTURED-LOCATION;VALUE=URI;X-ADDRESS=209 Main St\, Westcliffe\, 
 CO\, United States;X-APPLE-RADIUS=100;X-TITLE=West Custer County Library C
 ommunity Room:geo:38.136419,-105.467999
END:VEVENT
BEGIN:VTIMEZONE
TZID:America/Denver
X-LIC-LOCATION:America/Denver
BEGIN:DAYLIGHT
DTSTART:20250309T030000
TZOFFSETFROM:-0700
TZOFFSETTO:-0600
TZNAME:MDT
END:DAYLIGHT
END:VTIMEZONE
END:VCALENDAR