BEGIN:VCALENDAR
VERSION:2.0
PRODID:-//wp-events-plugin.com//7.2.3.1//EN
TZID:America/Denver
X-WR-TIMEZONE:America/Denver
BEGIN:VEVENT
UID:2090@westcusterlibrary.org
DTSTART;TZID=America/Denver:20250603T100000
DTEND;TZID=America/Denver:20250603T113000
DTSTAMP:20250507T224609Z
URL:https://www.westcusterlibrary.org/events/meet-greet-with-sheriff-smith
 -enjoy-free-coffee-donuts/
SUMMARY:MEET & GREET WITH SHERIFF SMITH ENJOY FREE COFFEE & DONUTS
DESCRIPTION:Enjoy an opportunity to talk with Custer County Sheriff Rich Sm
 ith at the West Custer County Library.  Hear what's going on in the count
 y from the perspective of the Sheriff's Department and get your questions 
 answered.  This event is open to the Custer County Community.  Free coff
 ee &amp\; donuts will be available.
ATTACH;FMTTYPE=image/jpeg:https://www.westcusterlibrary.org/wp-content/upl
 oads/2025/05/3c86827c-5209-49e4-bda7-82b013eb4638-2.png
CATEGORIES:Adults,Family
LOCATION:West Custer County Library Community Room\, 209 Main St\, Westclif
 fe\, CO\, United States
GEO:38.136419;-105.467999
X-APPLE-STRUCTURED-LOCATION;VALUE=URI;X-ADDRESS=209 Main St\, Westcliffe\, 
 CO\, United States;X-APPLE-RADIUS=100;X-TITLE=West Custer County Library C
 ommunity Room:geo:38.136419,-105.467999
END:VEVENT
BEGIN:VTIMEZONE
TZID:America/Denver
X-LIC-LOCATION:America/Denver
BEGIN:DAYLIGHT
DTSTART:20250309T030000
TZOFFSETFROM:-0700
TZOFFSETTO:-0600
TZNAME:MDT
END:DAYLIGHT
END:VTIMEZONE
END:VCALENDAR