BEGIN:VCALENDAR
VERSION:2.0
PRODID:-//wp-events-plugin.com//7.2.3.1//EN
TZID:America/Denver
X-WR-TIMEZONE:America/Denver
BEGIN:VEVENT
UID:2066@westcusterlibrary.org
DTSTART;TZID=America/Denver:20250513T100000
DTEND;TZID=America/Denver:20250513T120000
DTSTAMP:20250409T204251Z
URL:https://www.westcusterlibrary.org/events/may-is-wildfire-awareness-mon
 th-what-to-mitigate-as-a-priority-at-your-house-and-land-for-wildfire-thre
 at-and-evacuation-advice/
SUMMARY:May is Wildfire Awareness Month "What to Mitigate as a Priority at 
 Your House and Land for Wildfire Threat and Evacuation Advice"
DESCRIPTION:Join Office of Emergency Management personnel to discuss "What 
 to Mitigate at Your House and Land for Wildfire Threat and Evacuation and 
 Advice."  Find out what skills you might need and what resources are avai
 lable to help mitigate your property.  Hear about Emergency family planni
 ng\, evacuation kits\, and things to do at your house before you leave. Le
 arn how to have a family plan in place and signup for emergency alerts.
ATTACH;FMTTYPE=image/jpeg:https://www.westcusterlibrary.org/wp-content/upl
 oads/2025/04/58a1e6cf-d893-403a-bcde-756ea37f0dbd.png
CATEGORIES:Adults
LOCATION:West Custer County Library Community Room\, 209 Main St\, Westclif
 fe\, CO\, United States
GEO:38.136419;-105.467999
X-APPLE-STRUCTURED-LOCATION;VALUE=URI;X-ADDRESS=209 Main St\, Westcliffe\, 
 CO\, United States;X-APPLE-RADIUS=100;X-TITLE=West Custer County Library C
 ommunity Room:geo:38.136419,-105.467999
END:VEVENT
BEGIN:VTIMEZONE
TZID:America/Denver
X-LIC-LOCATION:America/Denver
BEGIN:DAYLIGHT
DTSTART:20250309T030000
TZOFFSETFROM:-0700
TZOFFSETTO:-0600
TZNAME:MDT
END:DAYLIGHT
END:VTIMEZONE
END:VCALENDAR