BEGIN:VCALENDAR
VERSION:2.0
PRODID:-//wp-events-plugin.com//7.2.3.1//EN
TZID:America/Denver
X-WR-TIMEZONE:America/Denver
BEGIN:VEVENT
UID:2065@westcusterlibrary.org
DTSTART;TZID=America/Denver:20250507T173000
DTEND;TZID=America/Denver:20250507T190000
DTSTAMP:20250409T201656Z
URL:https://www.westcusterlibrary.org/events/may-is-wildfire-awareness-mon
 th-ready-set-go/
SUMMARY:May is Wildfire Awareness Month Ready Set Go!
DESCRIPTION:The Office of Emergency Management presents "Ready Set Go!"  T
 he focus of this presentation is understanding when and how to evacuate yo
 ur family and animals and why to evacuate early if there is a wildfire thr
 eat.  Reggie Foster\, Custer County Extension Director will be the featur
 ed guest speaker.
ATTACH;FMTTYPE=image/jpeg:https://www.westcusterlibrary.org/wp-content/upl
 oads/2025/04/58a1e6cf-d893-403a-bcde-756ea37f0dbd.png
CATEGORIES:Adults
LOCATION:West Custer County Library Community Room\, 209 Main St\, Westclif
 fe\, CO\, United States
GEO:38.136419;-105.467999
X-APPLE-STRUCTURED-LOCATION;VALUE=URI;X-ADDRESS=209 Main St\, Westcliffe\, 
 CO\, United States;X-APPLE-RADIUS=100;X-TITLE=West Custer County Library C
 ommunity Room:geo:38.136419,-105.467999
END:VEVENT
BEGIN:VTIMEZONE
TZID:America/Denver
X-LIC-LOCATION:America/Denver
BEGIN:DAYLIGHT
DTSTART:20250309T030000
TZOFFSETFROM:-0700
TZOFFSETTO:-0600
TZNAME:MDT
END:DAYLIGHT
END:VTIMEZONE
END:VCALENDAR