BEGIN:VCALENDAR
VERSION:2.0
PRODID:-//wp-events-plugin.com//7.2.3.1//EN
TZID:America/Denver
X-WR-TIMEZONE:America/Denver
BEGIN:VEVENT
UID:2852@westcusterlibrary.org
DTSTART;TZID=America/Denver:20260326T130000
DTEND;TZID=America/Denver:20260326T150000
DTSTAMP:20260124T000317Z
URL:https://www.westcusterlibrary.org/events/march-puzzle-madness-multi-ge
 n/
SUMMARY:MARCH PUZZLE MADNESS (MULTI-GEN)
DESCRIPTION:●  Register your group of 2-4 people to compete in  the pu
 zzle class that fits you. The team who wins will receive a $20 gift card &
 amp\; an unopened puzzle.\n\n*MULTI-GEN: Kids\, Families\, parents/grandpa
 rents\n*ADULT: Must be 19 or older.\n\n●  Multi-Gen teams will receive
  a 300-piece puzzle to complete in 2 hrs. Adult teams will receive a 500-
 piece puzzle to complete in 2 hrs. (6 team slots in each category\, get yo
 ur spot NOW!)
ATTACH;FMTTYPE=image/jpeg:https://www.westcusterlibrary.org/wp-content/upl
 oads/2026/01/puzzlemaddness.png
CATEGORIES:Age 9-14,Family,Kids (ages 5-10),Kids (ages 6-16),Teen (ages
 14-18),Teens (ages 11-18),Teens (ages 13-18)
LOCATION:West Custer County Library Community Room\, 209 Main St\, Westclif
 fe\, CO\, United States
GEO:38.136419;-105.467999
X-APPLE-STRUCTURED-LOCATION;VALUE=URI;X-ADDRESS=209 Main St\, Westcliffe\, 
 CO\, United States;X-APPLE-RADIUS=100;X-TITLE=West Custer County Library C
 ommunity Room:geo:38.136419,-105.467999
END:VEVENT
BEGIN:VTIMEZONE
TZID:America/Denver
X-LIC-LOCATION:America/Denver
BEGIN:DAYLIGHT
DTSTART:20260308T030000
TZOFFSETFROM:-0700
TZOFFSETTO:-0600
TZNAME:MDT
END:DAYLIGHT
END:VTIMEZONE
END:VCALENDAR