BEGIN:VCALENDAR
VERSION:2.0
PRODID:-//wp-events-plugin.com//7.2.3.1//EN
TZID:America/Denver
X-WR-TIMEZONE:America/Denver
BEGIN:VEVENT
UID:2174@westcusterlibrary.org
DTSTART;TZID=America/Denver:20251007T100000
DTEND;TZID=America/Denver:20251007T110000
DTSTAMP:20250812T185734Z
URL:https://www.westcusterlibrary.org/events/library-to-host-from-grief-to
 -gratitude-support-group-3rd-session-incorporating-new-traditions-into-old
 -traditions/
SUMMARY:Library to Host “From Grief to Gratitude” Support Group 3rd Ses
 sion "Incorporating New Traditions into Old Traditions"
DESCRIPTION:Library to Host “From Grief to Gratitude” Support Group\n\n
 The Central Colorado Area Agency on Aging will host a five-week focused gr
 ief support group beginning Tuesday\, September 23rd through October 21st 
 beginning at 10 a.m. at the West Custer County Library.\n\nIt may be years
  after the loss of your loved one and you may still feel stuck with grief.
  You are in a club you never intended to join. This program will help you 
 move from being stuck to finding gratitude and renewed purpose. The one-ho
 ur sessions are interactive and require participation.\n\nYou must registe
 r in advance for this series. Due to the progression of the program\, drop
 -ins will not be accepted.  Her are the topics for the five sessions:\n\n
  	23rd Giving Yourself Permission to Grieve\n 	30th Remembering to Honor t
 he Life and Legacy\n 	7th Incorporating New Traditions into Old Traditions
 \n 	14th Embracing Meaning and Purpose Going Forward\n 	21st Finding Grati
 tude in the Gift of Now\n
ATTACH;FMTTYPE=image/jpeg:https://www.westcusterlibrary.org/wp-content/upl
 oads/2025/07/3a653b1b-c485-4542-bd65-bf7675ab5bb9.png
CATEGORIES:Adults
LOCATION:West Custer County Library Community Room\, 209 Main St\, Westclif
 fe\, CO\, United States
GEO:38.136419;-105.467999
X-APPLE-STRUCTURED-LOCATION;VALUE=URI;X-ADDRESS=209 Main St\, Westcliffe\, 
 CO\, United States;X-APPLE-RADIUS=100;X-TITLE=West Custer County Library C
 ommunity Room:geo:38.136419,-105.467999
END:VEVENT
BEGIN:VTIMEZONE
TZID:America/Denver
X-LIC-LOCATION:America/Denver
BEGIN:DAYLIGHT
DTSTART:20250309T030000
TZOFFSETFROM:-0700
TZOFFSETTO:-0600
TZNAME:MDT
END:DAYLIGHT
END:VTIMEZONE
END:VCALENDAR