BEGIN:VCALENDAR
VERSION:2.0
PRODID:-//wp-events-plugin.com//7.2.3.1//EN
TZID:America/Denver
X-WR-TIMEZONE:America/Denver
BEGIN:VEVENT
UID:1422@westcusterlibrary.org
DTSTART;TZID=America/Denver:20250430T111500
DTEND;TZID=America/Denver:20250430T121500
DTSTAMP:20241001T231550Z
URL:https://www.westcusterlibrary.org/events/library-sponsored-book-club-2
 025-04-30/
SUMMARY:Library Sponsored Book Club
DESCRIPTION:The Library sponsored Book Club meets the last Wednesday of the
  month in the West Custer County Library Community Room from 11 a.m. till 
 noon.  The club is free and open to the public.  Here are the upcoming r
 eading selections:\n\nAugust 28th - "Sea People" by Christina Thompson\n\n
 September 25th -"The Wager" by David Grann\n\nOctober 30th - "The Ride of 
 Her Life" by Elizabeth Letts\n\nNovember 27th - "The Old Lion" by Jeff Sha
 ara\n\nJanuary 29th - "Covenant of Water" by Abraham Verghese\n\nFebruary 
 26th - "Finding Chika" by Mitch Albom\n\nMarch 26th - "Absolution" by Alic
 e McDermott\n\nApril 30th - "A Fever in the Heartland" by Timothy Egan\n\n
 May 28th - "The Fraud" by Zadie Smith\n\nJune 25th - "Old Farts on a Bus" 
 - C.A. Hocking
ATTACH;FMTTYPE=image/jpeg:https://www.westcusterlibrary.org/wp-content/upl
 oads/2024/07/4cd1f70b-cdc5-49e3-9bc5-1d8ba159d44d.png
CATEGORIES:Adults
LOCATION:West Custer County Library Community Room\, 209 Main St\, Westclif
 fe\, CO\, United States
GEO:38.136419;-105.467999
X-APPLE-STRUCTURED-LOCATION;VALUE=URI;X-ADDRESS=209 Main St\, Westcliffe\, 
 CO\, United States;X-APPLE-RADIUS=100;X-TITLE=West Custer County Library C
 ommunity Room:geo:38.136419,-105.467999
END:VEVENT
BEGIN:VTIMEZONE
TZID:America/Denver
X-LIC-LOCATION:America/Denver
BEGIN:DAYLIGHT
DTSTART:20250309T030000
TZOFFSETFROM:-0700
TZOFFSETTO:-0600
TZNAME:MDT
END:DAYLIGHT
END:VTIMEZONE
END:VCALENDAR