BEGIN:VCALENDAR
VERSION:2.0
PRODID:-//wp-events-plugin.com//7.2.3.1//EN
TZID:America/Denver
X-WR-TIMEZONE:America/Denver
BEGIN:VEVENT
UID:1420@westcusterlibrary.org
DTSTART;TZID=America/Denver:20250226T111500
DTEND;TZID=America/Denver:20250226T121500
DTSTAMP:20250211T235700Z
URL:https://www.westcusterlibrary.org/events/library-sponsored-book-club-2
 025-02-26/
SUMMARY:Library Sponsored Book Club
DESCRIPTION:The Library sponsored Book Club meets the last Wednesday of the
  month in the West Custer County Library Community Room from 11:15 a.m. ti
 ll 12:15 p.m.  The club is free and open to the public.  Here are the up
 coming reading selections:\n\nAugust 28th - "Sea People" by Christina Thom
 pson\n\nSeptember 25th -"The Wager" by David Grann\n\nOctober 30th - "The 
 Ride of Her Life" by Elizabeth Letts\n\nNovember 27th - "The Old Lion" by 
 Jeff Shaara\n\nJanuary 29th - "Covenant of Water" by Abraham Verghese\n\nF
 ebruary 26th - "Finding Chika" by Mitch Albom\n\nMarch 26th - "Absolution"
  by Alice McDermott\n\nApril 30th - "A Fever in the Heartland" by Timothy 
 Egan\n\nMay 28th - "The Fraud" by Zadie Smith\n\nJune 25th - "Old Farts on
  a Bus" - C.A. Hocking
ATTACH;FMTTYPE=image/jpeg:https://www.westcusterlibrary.org/wp-content/upl
 oads/2024/07/d693f7f3-10f4-4ebf-bde3-c4ddfe145c43.png
CATEGORIES:Adults
LOCATION:West Custer County Library Community Room\, 209 Main St\, Westclif
 fe\, CO\, United States
GEO:38.136419;-105.467999
X-APPLE-STRUCTURED-LOCATION;VALUE=URI;X-ADDRESS=209 Main St\, Westcliffe\, 
 CO\, United States;X-APPLE-RADIUS=100;X-TITLE=West Custer County Library C
 ommunity Room:geo:38.136419,-105.467999
END:VEVENT
BEGIN:VTIMEZONE
TZID:America/Denver
X-LIC-LOCATION:America/Denver
BEGIN:STANDARD
DTSTART:20241103T010000
TZOFFSETFROM:-0600
TZOFFSETTO:-0700
TZNAME:MST
END:STANDARD
END:VTIMEZONE
END:VCALENDAR