BEGIN:VCALENDAR
VERSION:2.0
PRODID:-//wp-events-plugin.com//7.2.3.1//EN
TZID:America/Denver
X-WR-TIMEZONE:America/Denver
BEGIN:VEVENT
UID:2233@westcusterlibrary.org
DTSTART;TZID=America/Denver:20250827T111500
DTEND;TZID=America/Denver:20250827T121500
DTSTAMP:20250826T215705Z
URL:https://www.westcusterlibrary.org/events/library-book-club/
SUMMARY:Library Book Club
DESCRIPTION:For all the Readers out there the Library sponsored Book Club m
 eets the last Wednesday of the month in the West Custer County Library Com
 munity Room from 11:15 a.m. till 12:15 p.m.  The club is free and open to
  the public.  The club welcomes new readers!  Here are the upcoming read
 ing selections for 2025 - 2026:\nAugust 27th - "Viva Byron" by Hugh Thomso
 n\nSeptember 24th - "The Briar Club" by Kate Quinn\nOctober 29th - "Where 
 the Bluebird Sings to Lemonade Springs" by Wallace Stegner\nNovember 19th 
 - "The Wind Knows My Name" by Isabel Allende (One week earlier due to Than
 ksgiving)\nJanuary 28th - "The Frozen River" by Ariel Lawhon\nFebruary 25t
 h - "The Paris Novel" by Ruth Reichl\nMarch 25th - "When We had Wings" by 
 Ariel Lawhon\, Kristina McMorris\, Susan Meissner\nApril 29th - "The Berry
  Pickers" by Amanda Peters\nMay 27th - "Caste" by Isabel Wilkerson\nJune 2
 4th - "The Light from a Thousand Wounds" by Corey Hatfield
ATTACH;FMTTYPE=image/jpeg:https://www.westcusterlibrary.org/wp-content/upl
 oads/2025/08/ca0f8931-fa06-43a7-83e4-09df7deb17f8.png
CATEGORIES:Adults
LOCATION:West Custer County Library Community Room\, 209 Main St\, Westclif
 fe\, CO\, United States
GEO:38.136419;-105.467999
X-APPLE-STRUCTURED-LOCATION;VALUE=URI;X-ADDRESS=209 Main St\, Westcliffe\, 
 CO\, United States;X-APPLE-RADIUS=100;X-TITLE=West Custer County Library C
 ommunity Room:geo:38.136419,-105.467999
END:VEVENT
BEGIN:VTIMEZONE
TZID:America/Denver
X-LIC-LOCATION:America/Denver
BEGIN:DAYLIGHT
DTSTART:20250309T030000
TZOFFSETFROM:-0700
TZOFFSETTO:-0600
TZNAME:MDT
END:DAYLIGHT
END:VTIMEZONE
END:VCALENDAR