BEGIN:VCALENDAR
VERSION:2.0
PRODID:-//wp-events-plugin.com//7.2.3.1//EN
TZID:America/Denver
X-WR-TIMEZONE:America/Denver
BEGIN:VEVENT
UID:2234@westcusterlibrary.org
DTSTART;TZID=America/Denver:20250924T111500
DTEND;TZID=America/Denver:20250924T121500
DTSTAMP:20250909T143230Z
URL:https://www.westcusterlibrary.org/events/library-book-club-2/
SUMMARY:Library Book Club
DESCRIPTION:For all the Readers out there the Library sponsored Book Club m
 eets the last Wednesday of the month in the West Custer County Library Com
 munity Room from 11:15 a.m. till 12:15 p.m.  The club is free and open to
  the public.  The club welcomes new readers!  Here are the upcoming read
 ing selections for 2025 - 2026:\n\n 	September 24th - "The Briar Club" by 
 Kate Quinn\n 	October 29th - "Where the Bluebird Sings to Lemonade Springs
 " by Wallace Stegner\n 	November 19th - "The Wind Knows My Name" by Isabel
  Allende (One week earlier due to Thanksgiving)\n 	January 28th - "The Fro
 zen River" by Ariel Lawhon\n 	February 25th - "The Paris Novel" by Ruth Re
 ichl\n 	March 25th - "When We had Wings" by Ariel Lawhon\, Kristina McMorr
 is\, Susan Meissner\n 	April 29th - "The Berry Pickers" by Amanda Peters\n
  	May 27th - "Caste" by Isabel Wilkerson\n 	June 24th - "The Light from a 
 Thousand Wounds" by Corey Hatfield\n
ATTACH;FMTTYPE=image/jpeg:https://www.westcusterlibrary.org/wp-content/upl
 oads/2025/08/ca0f8931-fa06-43a7-83e4-09df7deb17f8.png
CATEGORIES:Adults
LOCATION:West Custer County Library Community Room\, 209 Main St\, Westclif
 fe\, CO\, United States
GEO:38.136419;-105.467999
X-APPLE-STRUCTURED-LOCATION;VALUE=URI;X-ADDRESS=209 Main St\, Westcliffe\, 
 CO\, United States;X-APPLE-RADIUS=100;X-TITLE=West Custer County Library C
 ommunity Room:geo:38.136419,-105.467999
END:VEVENT
BEGIN:VTIMEZONE
TZID:America/Denver
X-LIC-LOCATION:America/Denver
BEGIN:DAYLIGHT
DTSTART:20250309T030000
TZOFFSETFROM:-0700
TZOFFSETTO:-0600
TZNAME:MDT
END:DAYLIGHT
END:VTIMEZONE
END:VCALENDAR