BEGIN:VCALENDAR
VERSION:2.0
PRODID:-//wp-events-plugin.com//7.2.3.1//EN
TZID:America/Denver
X-WR-TIMEZONE:America/Denver
BEGIN:VEVENT
UID:1804@westcusterlibrary.org
DTSTART;TZID=America/Denver:20250128T100000
DTEND;TZID=America/Denver:20250128T113000
DTSTAMP:20241211T000101Z
URL:https://www.westcusterlibrary.org/events/lets-talk-wolves/
SUMMARY:Let's Talk Wolves
DESCRIPTION:Colorado Parks and Wildlife Officer Justin Krall will present i
 nformation on the biology\, behavior\, and history of wolves in Colorado.
ATTACH;FMTTYPE=image/jpeg:https://www.westcusterlibrary.org/wp-content/upl
 oads/2024/12/7f9db458-3ff9-4856-83ea-6fe516110afe.png
CATEGORIES:Adults
LOCATION:West Custer County Library Community Room\, 209 Main St\, Westclif
 fe\, CO\, United States
GEO:38.136419;-105.467999
X-APPLE-STRUCTURED-LOCATION;VALUE=URI;X-ADDRESS=209 Main St\, Westcliffe\, 
 CO\, United States;X-APPLE-RADIUS=100;X-TITLE=West Custer County Library C
 ommunity Room:geo:38.136419,-105.467999
END:VEVENT
BEGIN:VTIMEZONE
TZID:America/Denver
X-LIC-LOCATION:America/Denver
BEGIN:STANDARD
DTSTART:20241103T010000
TZOFFSETFROM:-0600
TZOFFSETTO:-0700
TZNAME:MST
END:STANDARD
END:VTIMEZONE
END:VCALENDAR