BEGIN:VCALENDAR
VERSION:2.0
PRODID:-//wp-events-plugin.com//7.2.3.1//EN
TZID:America/Denver
X-WR-TIMEZONE:America/Denver
BEGIN:VEVENT
UID:2319@westcusterlibrary.org
DTSTART;TZID=America/Denver:20251018T193000
DTEND;TZID=America/Denver:20251018T203000
DTSTAMP:20250927T202840Z
URL:https://www.westcusterlibrary.org/events/kid-star-party/
SUMMARY:Kid Star Party
DESCRIPTION:Join Dark Skies for an Out of this world experience. Come out t
 o Smokey Jack Observatory to view the planets Saturn and Neptune. FREE FOR
  KIDS 0-18\; parents/guardians welcome!\n\nFREE HOT CHOCOLATE &amp\; TAKE 
 HOME CRAFT\n\nWe hope to see you there!!
ATTACH;FMTTYPE=image/jpeg:https://www.westcusterlibrary.org/wp-content/upl
 oads/2025/09/kidstarparty2.png
CATEGORIES:Age 9-14,Family,High School Students,Infant to Pre-K (ages
 0-5),Kids (ages 5-10),Kids (ages 6-16),Teen (ages 14-18),Teens (ages
 11-18),Teens (ages 13-18)
END:VEVENT
BEGIN:VTIMEZONE
TZID:America/Denver
X-LIC-LOCATION:America/Denver
BEGIN:DAYLIGHT
DTSTART:20250309T030000
TZOFFSETFROM:-0700
TZOFFSETTO:-0600
TZNAME:MDT
END:DAYLIGHT
END:VTIMEZONE
END:VCALENDAR