BEGIN:VCALENDAR
VERSION:2.0
PRODID:-//wp-events-plugin.com//7.2.3.1//EN
TZID:America/Denver
X-WR-TIMEZONE:America/Denver
BEGIN:VEVENT
UID:2096@westcusterlibrary.org
DTSTART;TZID=America/Denver:20250624T100000
DTEND;TZID=America/Denver:20250624T110000
DTSTAMP:20250513T212408Z
URL:https://www.westcusterlibrary.org/events/julie-vanlaanen-of-filter-pre
 ss-talks-publishing/
SUMMARY:Julie Vanlaanen of Filter Press Talks Publishing
DESCRIPTION:Julie is the owner of local publishing company Filter Press.  
 Julie will discuss the pros and cons of publishing.  Bring your questions
 .  This event is free and open to the public.
ATTACH;FMTTYPE=image/jpeg:https://www.westcusterlibrary.org/wp-content/upl
 oads/2025/05/51046356-7e92-4de8-9dfb-89483031768b.png
CATEGORIES:Adults
LOCATION:West Custer County Library Community Room\, 209 Main St\, Westclif
 fe\, CO\, United States
GEO:38.136419;-105.467999
X-APPLE-STRUCTURED-LOCATION;VALUE=URI;X-ADDRESS=209 Main St\, Westcliffe\, 
 CO\, United States;X-APPLE-RADIUS=100;X-TITLE=West Custer County Library C
 ommunity Room:geo:38.136419,-105.467999
END:VEVENT
BEGIN:VTIMEZONE
TZID:America/Denver
X-LIC-LOCATION:America/Denver
BEGIN:DAYLIGHT
DTSTART:20250309T030000
TZOFFSETFROM:-0700
TZOFFSETTO:-0600
TZNAME:MDT
END:DAYLIGHT
END:VTIMEZONE
END:VCALENDAR