BEGIN:VCALENDAR
VERSION:2.0
PRODID:-//wp-events-plugin.com//7.2.3.1//EN
TZID:America/Denver
X-WR-TIMEZONE:America/Denver
BEGIN:VEVENT
UID:2184@westcusterlibrary.org
DTSTART;TZID=America/Denver:20250909T120000
DTEND;TZID=America/Denver:20250909T130000
DTSTAMP:20250812T225402Z
URL:https://www.westcusterlibrary.org/events/jobs-jobs-jobs-colorado-workf
 orce-is-coming/
SUMMARY:JOBS! JOBS! JOBS! Colorado Workforce is Coming
DESCRIPTION:Whether you're an employer\, or a job applicant looking for a j
 ob come talk to the Colorado Workforce folks.  Colorado Workforce is part
  of the Department of Labor\, they use a website called Connecting Colorad
 o to help job seekers and employers connect.  Teens\, veterans\, and adul
 ts are all welcome to attend.  Employers learn about how to hire interns 
 and possibly receive financial assistance for their position.  Services a
 re free.  Registration is recommended.
ATTACH;FMTTYPE=image/jpeg:https://www.westcusterlibrary.org/wp-content/upl
 oads/2025/08/1ca33a3c-5322-49a3-9ee0-635cba261e43.png
CATEGORIES:Adults,High School Students,Veterans
LOCATION:West Custer County Library Community Room\, 209 Main St\, Westclif
 fe\, CO\, United States
GEO:38.136419;-105.467999
X-APPLE-STRUCTURED-LOCATION;VALUE=URI;X-ADDRESS=209 Main St\, Westcliffe\, 
 CO\, United States;X-APPLE-RADIUS=100;X-TITLE=West Custer County Library C
 ommunity Room:geo:38.136419,-105.467999
END:VEVENT
BEGIN:VTIMEZONE
TZID:America/Denver
X-LIC-LOCATION:America/Denver
BEGIN:DAYLIGHT
DTSTART:20250309T030000
TZOFFSETFROM:-0700
TZOFFSETTO:-0600
TZNAME:MDT
END:DAYLIGHT
END:VTIMEZONE
END:VCALENDAR