BEGIN:VCALENDAR
VERSION:2.0
PRODID:-//wp-events-plugin.com//7.2.3.1//EN
TZID:America/Denver
X-WR-TIMEZONE:America/Denver
BEGIN:VEVENT
UID:1894@westcusterlibrary.org
DTSTART;TZID=America/Denver:20250325T133000
DTEND;TZID=America/Denver:20250325T153000
DTSTAMP:20250121T230414Z
URL:https://www.westcusterlibrary.org/events/jigsaw-puzzle-contest/
SUMMARY:Jigsaw Puzzle Contest
DESCRIPTION:The library is hosting a team puzzle competition.  Register yo
 ur team of 2 people to compete against other teams.  Every team will rece
 ive the same 300-piece puzzle and has 2 hours to complete it.  Each membe
 r of the winning team will receive a $20 gift card.\nThe library would lik
 e to thank the Ravensburger Company for supplying free puzzles for the con
 test. 
ATTACH;FMTTYPE=image/jpeg:https://www.westcusterlibrary.org/wp-content/upl
 oads/2025/01/b4d31ff4-665a-45f3-acb8-2fd2d7894be4.png
CATEGORIES:Adults,Family,Teens (ages 11-18)
LOCATION:West Custer County Library Community Room\, 209 Main St\, Westclif
 fe\, CO\, United States
GEO:38.136419;-105.467999
X-APPLE-STRUCTURED-LOCATION;VALUE=URI;X-ADDRESS=209 Main St\, Westcliffe\, 
 CO\, United States;X-APPLE-RADIUS=100;X-TITLE=West Custer County Library C
 ommunity Room:geo:38.136419,-105.467999
END:VEVENT
BEGIN:VTIMEZONE
TZID:America/Denver
X-LIC-LOCATION:America/Denver
BEGIN:DAYLIGHT
DTSTART:20250309T030000
TZOFFSETFROM:-0700
TZOFFSETTO:-0600
TZNAME:MDT
END:DAYLIGHT
END:VTIMEZONE
END:VCALENDAR