BEGIN:VCALENDAR
VERSION:2.0
PRODID:-//wp-events-plugin.com//7.2.3.1//EN
TZID:America/Denver
X-WR-TIMEZONE:America/Denver
BEGIN:VEVENT
UID:341@westcusterlibrary.org
DTSTART;TZID=America/Denver:20230307T130000
DTEND;TZID=America/Denver:20230307T143000
DTSTAMP:20230207T233801Z
URL:https://www.westcusterlibrary.org/events/introduction-to-oral-history/
SUMMARY:Introduction to Oral History
DESCRIPTION:The Custer County Library presents an Introduction to Oral Hist
 ory to be given by retired CSU Pueblo Professor Bev Allen on Tuesday\, Mar
 ch 7th at 1 p.m. in the Library Community Room. This workshop will discuss
 : how to prepare for oral history interviews\, interviewing techniques\, e
 quipment\, sample questions and legal considerations. Oral history can be 
 an effective tool to help preserve the history of your family and/or commu
 nity. The stories of our elders can help us better understand both ourselv
 es and our communities. Oral history brings history off the page and to li
 fe!  Plus\, it’s fun and easy to do with a little guidance.  Attendees
  will be provided with a list of resources.  RSVP to (719) 783-9138 or re
 gister at www.westcusterlibrary.org.
ATTACH;FMTTYPE=image/jpeg:https://www.westcusterlibrary.org/wp-content/upl
 oads/2023/02/676c9c5b-3dff-4485-95d4-60835cb66830.png
CATEGORIES:Adults
END:VEVENT
BEGIN:VTIMEZONE
TZID:America/Denver
X-LIC-LOCATION:America/Denver
BEGIN:STANDARD
DTSTART:20221106T010000
TZOFFSETFROM:-0600
TZOFFSETTO:-0700
TZNAME:MST
END:STANDARD
END:VTIMEZONE
END:VCALENDAR