BEGIN:VCALENDAR
VERSION:2.0
PRODID:-//wp-events-plugin.com//7.2.3.1//EN
TZID:America/Denver
X-WR-TIMEZONE:America/Denver
BEGIN:VEVENT
UID:1964@westcusterlibrary.org
DTSTART;TZID=America/Denver:20250325T110000
DTEND;TZID=America/Denver:20250325T120000
DTSTAMP:20250225T193851Z
URL:https://www.westcusterlibrary.org/events/introducing-landing-well/
SUMMARY:Introducing Landing Well Resources for Seniors
DESCRIPTION:Introducing a new online resource to connect seniors with welln
 ess and service providers in the Wet Mountain Valley.  Join your neighbor
 s for coffee\, conversation\, and a demo of the new LandingWellWMV.org web
 site.
ATTACH;FMTTYPE=image/jpeg:https://www.westcusterlibrary.org/wp-content/upl
 oads/2025/02/0c9ab0cd-c785-4898-b169-01fa8e7ebfd7.png
CATEGORIES:Adults,Senior Adults
LOCATION:West Custer County Library Community Room\, 209 Main St\, Westclif
 fe\, CO\, United States
GEO:38.136419;-105.467999
X-APPLE-STRUCTURED-LOCATION;VALUE=URI;X-ADDRESS=209 Main St\, Westcliffe\, 
 CO\, United States;X-APPLE-RADIUS=100;X-TITLE=West Custer County Library C
 ommunity Room:geo:38.136419,-105.467999
END:VEVENT
BEGIN:VTIMEZONE
TZID:America/Denver
X-LIC-LOCATION:America/Denver
BEGIN:DAYLIGHT
DTSTART:20250309T030000
TZOFFSETFROM:-0700
TZOFFSETTO:-0600
TZNAME:MDT
END:DAYLIGHT
END:VTIMEZONE
END:VCALENDAR