BEGIN:VCALENDAR
VERSION:2.0
PRODID:-//wp-events-plugin.com//7.2.3.1//EN
TZID:America/Denver
X-WR-TIMEZONE:America/Denver
BEGIN:VEVENT
UID:2854@westcusterlibrary.org
DTSTART;TZID=America/Denver:20260225T161500
DTEND;TZID=America/Denver:20260225T171500
DTSTAMP:20260130T170914Z
URL:https://www.westcusterlibrary.org/events/intro-to-snowshoeing/
SUMMARY:Intro to Snowshoeing
DESCRIPTION:Intro to Snowshoeing: (@ Custer County school library) \n*Pare
 nts/guardians and youth\, MUST attend this meeting to participate in our s
 nowshoe activities Sat. March 7th &amp\; 14th. Waivers &amp\; permission f
 orms will be signed at this meeting.\n\nInformation meeting will cover:\nG
 ear: What do you need?\nWeather: Winter conditions vs. summer\nSafety: Ava
 lanche dangers &amp\; more\n\nIf you have any questions\, please email min
 dy@westcusterlibrary.org\n
ATTACH;FMTTYPE=image/jpeg:https://www.westcusterlibrary.org/wp-content/upl
 oads/2026/01/updatedsnowshoe.png
CATEGORIES:Age 9-14,Family,High School Students,Kids (ages 5-10),Kids
 (ages 6-16),Teen (ages 14-18),Teens (ages 11-18),Teens (ages 13-18)
END:VEVENT
BEGIN:VTIMEZONE
TZID:America/Denver
X-LIC-LOCATION:America/Denver
BEGIN:STANDARD
DTSTART:20251102T010000
TZOFFSETFROM:-0600
TZOFFSETTO:-0700
TZNAME:MST
END:STANDARD
END:VTIMEZONE
END:VCALENDAR