BEGIN:VCALENDAR
VERSION:2.0
PRODID:-//wp-events-plugin.com//7.2.3.1//EN
TZID:America/Denver
X-WR-TIMEZONE:America/Denver
BEGIN:VEVENT
UID:1931@westcusterlibrary.org
DTSTART;TZID=America/Denver:20250318T100000
DTEND;TZID=America/Denver:20250318T110000
DTSTAMP:20250130T002037Z
URL:https://www.westcusterlibrary.org/events/intriguing-origins-of-greco-r
 oman-mythology/
SUMMARY:Intriguing Origins of Greco Roman Mythology
DESCRIPTION:Gods were the ancients' go-to for explaining the unexplainable\
 , but what inspired the tales of mythmakers like Homer?  Cruise Ship pres
 enter Ann Payton Williams\, explores possible "truths" behind Circe\, Cycl
 ops\, a fire breathing dragon\, the Morning Fairy\, and more....
ATTACH;FMTTYPE=image/jpeg:https://www.westcusterlibrary.org/wp-content/upl
 oads/2025/01/b417f15c-4ef2-407e-a134-446e51ad06b3.png
CATEGORIES:Adults
LOCATION:West Custer County Library Community Room\, 209 Main St\, Westclif
 fe\, CO\, United States
GEO:38.136419;-105.467999
X-APPLE-STRUCTURED-LOCATION;VALUE=URI;X-ADDRESS=209 Main St\, Westcliffe\, 
 CO\, United States;X-APPLE-RADIUS=100;X-TITLE=West Custer County Library C
 ommunity Room:geo:38.136419,-105.467999
END:VEVENT
BEGIN:VTIMEZONE
TZID:America/Denver
X-LIC-LOCATION:America/Denver
BEGIN:DAYLIGHT
DTSTART:20250309T030000
TZOFFSETFROM:-0700
TZOFFSETTO:-0600
TZNAME:MDT
END:DAYLIGHT
END:VTIMEZONE
END:VCALENDAR