BEGIN:VCALENDAR
VERSION:2.0
PRODID:-//wp-events-plugin.com//7.2.3.1//EN
TZID:America/Denver
X-WR-TIMEZONE:America/Denver
BEGIN:VEVENT
UID:1961@westcusterlibrary.org
DTSTART;TZID=America/Denver:20250319T130000
DTEND;TZID=America/Denver:20250319T170000
DTSTAMP:20250221T234749Z
URL:https://www.westcusterlibrary.org/events/instrument-library-launch-par
 ty/
SUMMARY:Hayseeds Instrument Library Launch Party!
DESCRIPTION:Come celebrate the launch of our new Hayseeds Instrument Librar
 y\, in partnership with High Mountain Hay Fever\, at our Musical Instrumen
 t Petting Party!\n\nStop in anytime between 1 PM and 5 PM to learn about t
 he new program\, meet the instructors\, and borrow an instrument with your
  library card. Open to all ages\, registration not required.
ATTACH;FMTTYPE=image/jpeg:https://www.westcusterlibrary.org/wp-content/upl
 oads/2025/02/InstrumentLibraryFlyer.png
CATEGORIES:Adults,Family
LOCATION:West Custer County Library Community Room\, 209 Main St\, Westclif
 fe\, CO\, United States
GEO:38.136419;-105.467999
X-APPLE-STRUCTURED-LOCATION;VALUE=URI;X-ADDRESS=209 Main St\, Westcliffe\, 
 CO\, United States;X-APPLE-RADIUS=100;X-TITLE=West Custer County Library C
 ommunity Room:geo:38.136419,-105.467999
END:VEVENT
BEGIN:VTIMEZONE
TZID:America/Denver
X-LIC-LOCATION:America/Denver
BEGIN:DAYLIGHT
DTSTART:20250309T030000
TZOFFSETFROM:-0700
TZOFFSETTO:-0600
TZNAME:MDT
END:DAYLIGHT
END:VTIMEZONE
END:VCALENDAR