BEGIN:VCALENDAR
VERSION:2.0
PRODID:-//wp-events-plugin.com//7.2.3.1//EN
TZID:America/Denver
X-WR-TIMEZONE:America/Denver
BEGIN:VEVENT
UID:1774@westcusterlibrary.org
DTSTART;TZID=America/Denver:20250121T100000
DTEND;TZID=America/Denver:20250121T110000
DTSTAMP:20241210T221851Z
URL:https://www.westcusterlibrary.org/events/i-want-to-believe/
SUMMARY:I Want to Believe
DESCRIPTION:Join Jim Myers of the Colorado Sasquatch Outpost in Bailey via 
 Zoom to hear about his sasquatch experiences and research and why he belie
 ves Bigfoot is real.  He'll address some of the paranormal aspects that s
 urround these beings.  There are two ways to attend:  come to the librar
 y in-person for a zoom watch party\, or zoom from wherever you are by clic
 king on the zoom link below to launch the event.\nhttps://us02web.zoom.us/
 j/89251392818
ATTACH;FMTTYPE=image/jpeg:https://www.westcusterlibrary.org/wp-content/upl
 oads/2024/12/cb72c256-b5d5-409f-8abc-187e46a099ab.png
CATEGORIES:Adults
LOCATION:West Custer County Library Community Room\, 209 Main St\, Westclif
 fe\, CO\, United States
GEO:38.136419;-105.467999
X-APPLE-STRUCTURED-LOCATION;VALUE=URI;X-ADDRESS=209 Main St\, Westcliffe\, 
 CO\, United States;X-APPLE-RADIUS=100;X-TITLE=West Custer County Library C
 ommunity Room:geo:38.136419,-105.467999
END:VEVENT
BEGIN:VTIMEZONE
TZID:America/Denver
X-LIC-LOCATION:America/Denver
BEGIN:STANDARD
DTSTART:20241103T010000
TZOFFSETFROM:-0600
TZOFFSETTO:-0700
TZNAME:MST
END:STANDARD
END:VTIMEZONE
END:VCALENDAR