BEGIN:VCALENDAR
VERSION:2.0
PRODID:-//wp-events-plugin.com//7.2.3.1//EN
TZID:America/Denver
X-WR-TIMEZONE:America/Denver
BEGIN:VEVENT
UID:2077@westcusterlibrary.org
DTSTART;TZID=America/Denver:20250513T100000
DTEND;TZID=America/Denver:20250513T120000
DTSTAMP:20250423T193635Z
URL:https://www.westcusterlibrary.org/events/homeschool-field-day/
SUMMARY:HOMESCHOOL FIELD DAY
DESCRIPTION:Free sporting events\, snacks\, and souvenir bottle. For kids 4
 -12 yrs. old.\n\nplease register at:\nbit.ly/register81252\n\n
ATTACH;FMTTYPE=image/jpeg:https://www.westcusterlibrary.org/wp-content/upl
 oads/2025/04/homeschoolfieldday.png
CATEGORIES:Family,Kids (ages 5-10)
END:VEVENT
BEGIN:VTIMEZONE
TZID:America/Denver
X-LIC-LOCATION:America/Denver
BEGIN:DAYLIGHT
DTSTART:20250309T030000
TZOFFSETFROM:-0700
TZOFFSETTO:-0600
TZNAME:MDT
END:DAYLIGHT
END:VTIMEZONE
END:VCALENDAR