BEGIN:VCALENDAR
VERSION:2.0
PRODID:-//wp-events-plugin.com//7.2.3.1//EN
TZID:America/Denver
X-WR-TIMEZONE:America/Denver
BEGIN:VEVENT
UID:2182@westcusterlibrary.org
DTSTART;TZID=America/Denver:20250909T100000
DTEND;TZID=America/Denver:20250909T110000
DTSTAMP:20250807T182135Z
URL:https://www.westcusterlibrary.org/events/healthy-living-for-your-brain
 -and-body-alzheimers-association-caregiver-education-and-training-you-can-
 trust/
SUMMARY:Healthy Living for Your Brain and Body Alzheimer's Association Care
 giver Education and Training You Can Trust
DESCRIPTION:Healthy living for Your brain and body offers science-based rec
 ommendations about taking care of our brains and bodies.  We'll share sto
 ries and offer tips on how to make small changes in the following areas:\n
 *Getting quality sleep\n\n*Being smoke-free\n\n*Taking care of your mental
  health\n\n*Get moving &amp\; eating healthy\n\n*Challenging yourself\n\n*
 Staying Connected
ATTACH;FMTTYPE=image/jpeg:https://www.westcusterlibrary.org/wp-content/upl
 oads/2025/08/3e3e3e56-276f-407c-9094-a68cc7a91aae.png
CATEGORIES:Adults
LOCATION:West Custer County Library Community Room\, 209 Main St\, Westclif
 fe\, CO\, United States
GEO:38.136419;-105.467999
X-APPLE-STRUCTURED-LOCATION;VALUE=URI;X-ADDRESS=209 Main St\, Westcliffe\, 
 CO\, United States;X-APPLE-RADIUS=100;X-TITLE=West Custer County Library C
 ommunity Room:geo:38.136419,-105.467999
END:VEVENT
BEGIN:VTIMEZONE
TZID:America/Denver
X-LIC-LOCATION:America/Denver
BEGIN:DAYLIGHT
DTSTART:20250309T030000
TZOFFSETFROM:-0700
TZOFFSETTO:-0600
TZNAME:MDT
END:DAYLIGHT
END:VTIMEZONE
END:VCALENDAR