BEGIN:VCALENDAR
VERSION:2.0
PRODID:-//wp-events-plugin.com//7.2.3.1//EN
TZID:America/Denver
X-WR-TIMEZONE:America/Denver
BEGIN:VEVENT
UID:2093@westcusterlibrary.org
DTSTART;TZID=America/Denver:20250518T140000
DTEND;TZID=America/Denver:20250518T144500
DTSTAMP:20250509T190622Z
URL:https://www.westcusterlibrary.org/events/hayseeds-jam-for-kids-dolly/
SUMMARY:Hayseeds Jam for KIDS - Dolly!
DESCRIPTION:Hayseeds Instrument Library - Jam for Kids May 18\nHey kids\, b
 ring your instruments and voices to a fun music-making event with the teac
 hers from the Hayseeds Instrument Library! First\, a short performance by 
 your teachers featuring songs by superstar Dolly Parton. Then\, puppets! a
 nd learn a new Dolly song! And then a drawing for a prize! Fun and music f
 or all!\n\nSpectators welcome. If you plan to jam\, please email hayseedsl
 ibrary@gmail.com to let them know you're coming.
ATTACH;FMTTYPE=image/jpeg:https://www.westcusterlibrary.org/wp-content/upl
 oads/2025/05/May-18-Hayseeds-Jam-Dolly-Parton-Kids.jpg
CATEGORIES:Age 9-14,High School Students,Kids (ages 5-10),Teens (ages
 11-18)
LOCATION:West Custer County Library Community Room\, 209 Main St\, Westclif
 fe\, CO\, United States
GEO:38.136419;-105.467999
X-APPLE-STRUCTURED-LOCATION;VALUE=URI;X-ADDRESS=209 Main St\, Westcliffe\, 
 CO\, United States;X-APPLE-RADIUS=100;X-TITLE=West Custer County Library C
 ommunity Room:geo:38.136419,-105.467999
END:VEVENT
BEGIN:VTIMEZONE
TZID:America/Denver
X-LIC-LOCATION:America/Denver
BEGIN:DAYLIGHT
DTSTART:20250309T030000
TZOFFSETFROM:-0700
TZOFFSETTO:-0600
TZNAME:MDT
END:DAYLIGHT
END:VTIMEZONE
END:VCALENDAR