BEGIN:VCALENDAR
VERSION:2.0
PRODID:-//wp-events-plugin.com//7.2.3.1//EN
TZID:America/Denver
X-WR-TIMEZONE:America/Denver
BEGIN:VEVENT
UID:2094@westcusterlibrary.org
DTSTART;TZID=America/Denver:20250518T150000
DTEND;TZID=America/Denver:20250518T154500
DTSTAMP:20250509T190441Z
URL:https://www.westcusterlibrary.org/events/hayseeds-jam-for-adults-dolly
 /
SUMMARY:Hayseeds Jam for Adults - Dolly!
DESCRIPTION:Jam session for beginning adult students. Bring your own instru
 ment or the one you checked out.
ATTACH;FMTTYPE=image/jpeg:https://www.westcusterlibrary.org/wp-content/upl
 oads/2025/05/May-18-Hayseeds-Jam-Dolly-Adults.jpg
CATEGORIES:Adults,Senior Adults,Veterans,Women Veterans
LOCATION:West Custer County Library Community Room\, 209 Main St\, Westclif
 fe\, CO\, United States
GEO:38.136419;-105.467999
X-APPLE-STRUCTURED-LOCATION;VALUE=URI;X-ADDRESS=209 Main St\, Westcliffe\, 
 CO\, United States;X-APPLE-RADIUS=100;X-TITLE=West Custer County Library C
 ommunity Room:geo:38.136419,-105.467999
END:VEVENT
BEGIN:VTIMEZONE
TZID:America/Denver
X-LIC-LOCATION:America/Denver
BEGIN:DAYLIGHT
DTSTART:20250309T030000
TZOFFSETFROM:-0700
TZOFFSETTO:-0600
TZNAME:MDT
END:DAYLIGHT
END:VTIMEZONE
END:VCALENDAR