BEGIN:VCALENDAR
VERSION:2.0
PRODID:-//wp-events-plugin.com//7.2.3.1//EN
TZID:America/Denver
X-WR-TIMEZONE:America/Denver
BEGIN:VEVENT
UID:2105@westcusterlibrary.org
DTSTART;TZID=America/Denver:20250627T150000
DTEND;TZID=America/Denver:20250627T160000
DTSTAMP:20250527T190621Z
URL:https://www.westcusterlibrary.org/events/hayseeds-instrument-library-j
 une-kids-jam/
SUMMARY:Hayseeds Instrument Library - June Kids Jam
DESCRIPTION:Kids! Bring your Hayseeds instrument to the June Kids Jam on Ju
 ne 27 at 3 p.m. in the Library Community Room\, featuring songs about anim
 als! Listen to a short concert by your teachers\, then learn some new song
 s to play and sing. Please let your teachers know if you plan to come by e
 mailing hayseedslibrary@gmail.com. Spectators welcome\, too.
ATTACH;FMTTYPE=image/jpeg:https://www.westcusterlibrary.org/wp-content/upl
 oads/2025/05/Hayseeds-Kids-June-Jam-Animals_page-0001-1.jpg
CATEGORIES:Kids (ages 6-16)
LOCATION:West Custer County Library Community Room\, 209 Main St\, Westclif
 fe\, CO\, United States
GEO:38.136419;-105.467999
X-APPLE-STRUCTURED-LOCATION;VALUE=URI;X-ADDRESS=209 Main St\, Westcliffe\, 
 CO\, United States;X-APPLE-RADIUS=100;X-TITLE=West Custer County Library C
 ommunity Room:geo:38.136419,-105.467999
END:VEVENT
BEGIN:VTIMEZONE
TZID:America/Denver
X-LIC-LOCATION:America/Denver
BEGIN:DAYLIGHT
DTSTART:20250309T030000
TZOFFSETFROM:-0700
TZOFFSETTO:-0600
TZNAME:MDT
END:DAYLIGHT
END:VTIMEZONE
END:VCALENDAR