BEGIN:VCALENDAR
VERSION:2.0
PRODID:-//wp-events-plugin.com//7.2.3.1//EN
TZID:America/Denver
X-WR-TIMEZONE:America/Denver
BEGIN:VEVENT
UID:2106@westcusterlibrary.org
DTSTART;TZID=America/Denver:20250627T160000
DTEND;TZID=America/Denver:20250627T170000
DTSTAMP:20250527T191414Z
URL:https://www.westcusterlibrary.org/events/hayseeds-instrument-library-j
 une-adult-jam/
SUMMARY:Hayseeds Instrument Library - June Adult Jam
DESCRIPTION:Yippie-yo-ky-ay! Got an instrument checked out from the Hayseed
 s Instrument Library? Come to the June Jam session for adults featuring co
 wboy (and cowgirl) songs! Bring your instrument\, listen to a short perfor
 mance by the teachers\, then learn to play and sing a new song or two! Jam
  session is open to anyone who wants to participate -- you can bring your 
 own instrument if you like. Spectators welcome\, too. Please let us know i
 f you plan to come: hayseedslibrary@gmail.com.
ATTACH;FMTTYPE=image/jpeg:https://www.westcusterlibrary.org/wp-content/upl
 oads/2025/05/Hayseeds-Adult-June-Jam-Cowboys_page-0001.jpg
CATEGORIES:Adults,High School Students,Senior Adults
LOCATION:West Custer County Library Community Room\, 209 Main St\, Westclif
 fe\, CO\, United States
GEO:38.136419;-105.467999
X-APPLE-STRUCTURED-LOCATION;VALUE=URI;X-ADDRESS=209 Main St\, Westcliffe\, 
 CO\, United States;X-APPLE-RADIUS=100;X-TITLE=West Custer County Library C
 ommunity Room:geo:38.136419,-105.467999
END:VEVENT
BEGIN:VTIMEZONE
TZID:America/Denver
X-LIC-LOCATION:America/Denver
BEGIN:DAYLIGHT
DTSTART:20250309T030000
TZOFFSETFROM:-0700
TZOFFSETTO:-0600
TZNAME:MDT
END:DAYLIGHT
END:VTIMEZONE
END:VCALENDAR