BEGIN:VCALENDAR
VERSION:2.0
PRODID:-//wp-events-plugin.com//7.2.3.1//EN
TZID:America/Denver
X-WR-TIMEZONE:America/Denver
BEGIN:VEVENT
UID:2063@westcusterlibrary.org
DTSTART;TZID=America/Denver:20250413T140000
DTEND;TZID=America/Denver:20250413T160000
DTSTAMP:20250408T170533Z
URL:https://www.westcusterlibrary.org/events/hayseeds-instrument-library-j
 am-session-4-13-25/
SUMMARY:Hayseeds Instrument Library Jam Session 4/13/25
DESCRIPTION:Kids ages 6 to 99\, bring your instrument and voices - beginner
  to early intermediate players welcome!\n\nUkuleles jam at 2 p.m.\, guitar
 s at 3 p.m. We’ll have song sheets and instructors on hand!\n\nFor more 
 information or to register for the event\, email: hayseedslibrary@gmail.co
 m
ATTACH;FMTTYPE=image/jpeg:https://www.westcusterlibrary.org/wp-content/upl
 oads/2025/04/Hayseeds-Jam-Session-2-pdf.jpg
CATEGORIES:Adults,Age 9-14,Family,High School Students,Kids (ages
 5-10),Senior Adults,Teens (ages 11-18)
END:VEVENT
BEGIN:VTIMEZONE
TZID:America/Denver
X-LIC-LOCATION:America/Denver
BEGIN:DAYLIGHT
DTSTART:20250309T030000
TZOFFSETFROM:-0700
TZOFFSETTO:-0600
TZNAME:MDT
END:DAYLIGHT
END:VTIMEZONE
END:VCALENDAR