BEGIN:VCALENDAR
VERSION:2.0
PRODID:-//wp-events-plugin.com//7.2.3.1//EN
TZID:America/Denver
X-WR-TIMEZONE:America/Denver
BEGIN:VEVENT
UID:2861@westcusterlibrary.org
DTSTART;TZID=America/Denver:20260331T100000
DTEND;TZID=America/Denver:20260331T111500
DTSTAMP:20260310T175928Z
URL:https://www.westcusterlibrary.org/events/gut-health-sponsored-by-the-w
 ellness-council/
SUMMARY:Gut Health Nutrition Series Session 2 Sponsored by the Wellness Cou
 ncil
DESCRIPTION:Local Nurse Practitioner Ashley Melchiorre will share her exper
 tise on Gut Health.  We hear lots of information in the news on gut healt
 h these days. Gut Health is the common denominator.  Learn how it impacts
  all the systems in our body and why testing\, labs\, and treatment are so
  important.
ATTACH;FMTTYPE=image/jpeg:https://www.westcusterlibrary.org/wp-content/upl
 oads/2026/02/fe5e8101-826d-47dc-ba06-f7ab97cb3b69.png
CATEGORIES:Adults
LOCATION:West Custer County Library Community Room\, 209 Main St\, Westclif
 fe\, CO\, United States
GEO:38.136419;-105.467999
X-APPLE-STRUCTURED-LOCATION;VALUE=URI;X-ADDRESS=209 Main St\, Westcliffe\, 
 CO\, United States;X-APPLE-RADIUS=100;X-TITLE=West Custer County Library C
 ommunity Room:geo:38.136419,-105.467999
END:VEVENT
BEGIN:VTIMEZONE
TZID:America/Denver
X-LIC-LOCATION:America/Denver
BEGIN:DAYLIGHT
DTSTART:20260308T030000
TZOFFSETFROM:-0700
TZOFFSETTO:-0600
TZNAME:MDT
END:DAYLIGHT
END:VTIMEZONE
END:VCALENDAR