BEGIN:VCALENDAR
VERSION:2.0
PRODID:-//wp-events-plugin.com//7.2.3.1//EN
TZID:America/Denver
X-WR-TIMEZONE:America/Denver
BEGIN:VEVENT
UID:1976@westcusterlibrary.org
DTSTART;TZID=America/Denver:20250319T093000
DTEND;TZID=America/Denver:20250319T100000
DTSTAMP:20250314T221841Z
URL:https://www.westcusterlibrary.org/events/growing-together-session-4-co
 oking-2025-03-19/
SUMMARY:Growing Together Session 4: Cooking
DESCRIPTION:Join Rebecca Wills for a fun and tasty experience learning cook
 ing skills for young chefs\,\n\nEach young chef will receive a cooking kit
  and will learn to make fun and tasty treats. \n\n
ATTACH;FMTTYPE=image/jpeg:https://www.westcusterlibrary.org/wp-content/upl
 oads/2025/03/Copy-of-Copy-of-Copy-of-Copy-of-Copy-of-Copy-of-FINAL-GT-Sess
 ion1.jpg
CATEGORIES:Infant to Pre-K (ages 0-5),Mother &amp; Baby
LOCATION:West Custer County Library Community Room\, 209 Main St\, Westclif
 fe\, CO\, United States
GEO:38.136419;-105.467999
X-APPLE-STRUCTURED-LOCATION;VALUE=URI;X-ADDRESS=209 Main St\, Westcliffe\, 
 CO\, United States;X-APPLE-RADIUS=100;X-TITLE=West Custer County Library C
 ommunity Room:geo:38.136419,-105.467999
END:VEVENT
BEGIN:VTIMEZONE
TZID:America/Denver
X-LIC-LOCATION:America/Denver
BEGIN:DAYLIGHT
DTSTART:20250309T030000
TZOFFSETFROM:-0700
TZOFFSETTO:-0600
TZNAME:MDT
END:DAYLIGHT
END:VTIMEZONE
END:VCALENDAR