BEGIN:VCALENDAR
VERSION:2.0
PRODID:-//wp-events-plugin.com//7.2.3.1//EN
TZID:America/Denver
X-WR-TIMEZONE:America/Denver
BEGIN:VEVENT
UID:1467@westcusterlibrary.org
DTSTART;TZID=America/Denver:20250522T161500
DTEND;TZID=America/Denver:20250522T171500
DTSTAMP:20250512T210333Z
URL:https://www.westcusterlibrary.org/events/game-club-2-2025-05-22/
SUMMARY:GAME CLUB PIZZA PARTY
DESCRIPTION:Join us for our last game club before summer break!\n\nPIZZA an
 d DRINKS provided.\n\nBoard games\, NINTENDO SWITCH GAMES (video games)\, 
 and the OCULUS will be provided for participants to enjoy.
ATTACH;FMTTYPE=image/jpeg:https://www.westcusterlibrary.org/wp-content/upl
 oads/2024/08/specgameclub.png
CATEGORIES:Age 9-14
LOCATION:West Custer County Library Community Room\, 209 Main St\, Westclif
 fe\, CO\, United States
GEO:38.136419;-105.467999
X-APPLE-STRUCTURED-LOCATION;VALUE=URI;X-ADDRESS=209 Main St\, Westcliffe\, 
 CO\, United States;X-APPLE-RADIUS=100;X-TITLE=West Custer County Library C
 ommunity Room:geo:38.136419,-105.467999
END:VEVENT
BEGIN:VTIMEZONE
TZID:America/Denver
X-LIC-LOCATION:America/Denver
BEGIN:DAYLIGHT
DTSTART:20250309T030000
TZOFFSETFROM:-0700
TZOFFSETTO:-0600
TZNAME:MDT
END:DAYLIGHT
END:VTIMEZONE
END:VCALENDAR