BEGIN:VCALENDAR
VERSION:2.0
PRODID:-//wp-events-plugin.com//7.2.3.1//EN
TZID:America/Denver
X-WR-TIMEZONE:America/Denver
BEGIN:VEVENT
UID:2650@westcusterlibrary.org
DTSTART;TZID=America/Denver:20251210T160000
DTEND;TZID=America/Denver:20251210T172000
DTSTAMP:20251104T232215Z
URL:https://www.westcusterlibrary.org/events/free-virtual-legal-clinic-by-
 appointment-only/
SUMMARY:FREE VIRTUAL LEGAL CLINIC BY APPOINTMENT ONLY
DESCRIPTION:The West Custer County Library is offering a free legal clinic 
 the second Wednesday of each month in 2025 for parties who have no attorne
 y.  Call the library staff at (719) 783-9138 to make an appointment.  Vo
 lunteer attorneys will answer questions\, help fill out forms\, and explai
 n the process and procedure for legal issues.  The volunteer attorneys do
  not represent you and this clinic is informational only.  Appointments a
 re virtual and take place in the library's privacy booth.
ATTACH;FMTTYPE=image/jpeg:https://www.westcusterlibrary.org/wp-content/upl
 oads/2025/02/ffd7e082-f993-41aa-ac40-295c688f8118.png
CATEGORIES:Adults
LOCATION:West Custer County Library Community Room\, 209 Main St\, Westclif
 fe\, CO\, United States
GEO:38.136419;-105.467999
X-APPLE-STRUCTURED-LOCATION;VALUE=URI;X-ADDRESS=209 Main St\, Westcliffe\, 
 CO\, United States;X-APPLE-RADIUS=100;X-TITLE=West Custer County Library C
 ommunity Room:geo:38.136419,-105.467999
END:VEVENT
BEGIN:VTIMEZONE
TZID:America/Denver
X-LIC-LOCATION:America/Denver
BEGIN:STANDARD
DTSTART:20251102T010000
TZOFFSETFROM:-0600
TZOFFSETTO:-0700
TZNAME:MST
END:STANDARD
END:VTIMEZONE
END:VCALENDAR