BEGIN:VCALENDAR
VERSION:2.0
PRODID:-//wp-events-plugin.com//7.2.3.1//EN
TZID:America/Denver
X-WR-TIMEZONE:America/Denver
BEGIN:VEVENT
UID:2242@westcusterlibrary.org
DTSTART;TZID=America/Denver:20251018T100000
DTEND;TZID=America/Denver:20251018T140000
DTSTAMP:20251013T195831Z
URL:https://www.westcusterlibrary.org/events/free-senior-fair-aging-in-pla
 ce-in-custer-county/
SUMMARY:FREE SENIOR FAIR AGING IN PLACE IN CUSTER COUNTY SUCCESSFULLY
DESCRIPTION:The Senior Fair is designed to support and celebrate our senior
  community by providing valuable information\, resources\, and services to
  create a comprehensive plan for aging in place that promotes healthy\, ac
 tive\, and independent living. The fair will bring together local business
 es\, healthcare providers\, non-profits\, and community organizations offe
 ring products and services relevant to aging adults and their families.  
  At the fair seniors and their families will learn how they can successfu
 lly age in place in Custer County!  The fair will be held at Lange Hall a
 t 312 S. 3rd St.\, Westcliffe.  Public Health will be on hand at the fair
  to administer flu shots.
ATTACH;FMTTYPE=image/jpeg:https://www.westcusterlibrary.org/wp-content/upl
 oads/2025/08/592879e7-8275-470a-a459-72393bbe38c6.png
CATEGORIES:Adults
END:VEVENT
BEGIN:VTIMEZONE
TZID:America/Denver
X-LIC-LOCATION:America/Denver
BEGIN:DAYLIGHT
DTSTART:20250309T030000
TZOFFSETFROM:-0700
TZOFFSETTO:-0600
TZNAME:MDT
END:DAYLIGHT
END:VTIMEZONE
END:VCALENDAR