BEGIN:VCALENDAR
VERSION:2.0
PRODID:-//wp-events-plugin.com//7.2.3.1//EN
TZID:America/Denver
X-WR-TIMEZONE:America/Denver
BEGIN:VEVENT
UID:2055@westcusterlibrary.org
DTSTART;TZID=America/Denver:20250506T100000
DTEND;TZID=America/Denver:20250506T140000
DTSTAMP:20250401T231106Z
URL:https://www.westcusterlibrary.org/events/free-seed-cutting-exchange/
SUMMARY:FREE SEED/CUTTING EXCHANGE
DESCRIPTION:The West Custer County Library is hosting a Free Seed/Cutting E
 xchange.  Please bring your seeds &amp\; cuttings during the scheduled ex
 change hours.\n\nHere's how the exchange will work:\n\n 	Bring labeled veg
 etables\, herb\, &amp\; flower seeds\n 	Cuttings should be labeled and wra
 pped in a moist paper towel\n 	Labels should include: the name &amp\; vari
 ety\, growing instructions\, please note if the seeds are heirloom or hybr
 id\n 	No expired seeds please\n 	Purchased seeds are welcome\n
ATTACH;FMTTYPE=image/jpeg:https://www.westcusterlibrary.org/wp-content/upl
 oads/2025/04/fcac2d68-0dbb-4734-b501-60ed22182502.png
CATEGORIES:Adults,Family
LOCATION:West Custer County Library Community Room\, 209 Main St\, Westclif
 fe\, CO\, United States
GEO:38.136419;-105.467999
X-APPLE-STRUCTURED-LOCATION;VALUE=URI;X-ADDRESS=209 Main St\, Westcliffe\, 
 CO\, United States;X-APPLE-RADIUS=100;X-TITLE=West Custer County Library C
 ommunity Room:geo:38.136419,-105.467999
END:VEVENT
BEGIN:VTIMEZONE
TZID:America/Denver
X-LIC-LOCATION:America/Denver
BEGIN:DAYLIGHT
DTSTART:20250309T030000
TZOFFSETFROM:-0700
TZOFFSETTO:-0600
TZNAME:MDT
END:DAYLIGHT
END:VTIMEZONE
END:VCALENDAR