BEGIN:VCALENDAR
VERSION:2.0
PRODID:-//wp-events-plugin.com//7.2.3.1//EN
TZID:America/Denver
X-WR-TIMEZONE:America/Denver
BEGIN:VEVENT
UID:1817@westcusterlibrary.org
DTSTART;TZID=America/Denver:20250207T140000
DTEND;TZID=America/Denver:20250207T161500
DTSTAMP:20250113T191616Z
URL:https://www.westcusterlibrary.org/events/free-movie-green-book-2018/
SUMMARY:Free Movie Event "Green Book"
DESCRIPTION:Bouncer Tony Lip is hired by African-American musician Don Shir
 ley to chauffer him around the Jim Crow South in 1962 for an eight-week co
 ncert tour. The mismatched men form a friendship as Tony learns first-hand
  the racism Don must endure to perform.\n\nThe film is rated PG-13.  Runt
 ime is 130 minutes.
ATTACH;FMTTYPE=image/jpeg:https://www.westcusterlibrary.org/wp-content/upl
 oads/2025/01/e1cc693a-3d72-4c1a-be9d-69f8cf81bb1b.png
CATEGORIES:Adults
LOCATION:West Custer County Library Community Room\, 209 Main St\, Westclif
 fe\, CO\, United States
GEO:38.136419;-105.467999
X-APPLE-STRUCTURED-LOCATION;VALUE=URI;X-ADDRESS=209 Main St\, Westcliffe\, 
 CO\, United States;X-APPLE-RADIUS=100;X-TITLE=West Custer County Library C
 ommunity Room:geo:38.136419,-105.467999
END:VEVENT
BEGIN:VTIMEZONE
TZID:America/Denver
X-LIC-LOCATION:America/Denver
BEGIN:STANDARD
DTSTART:20241103T010000
TZOFFSETFROM:-0600
TZOFFSETTO:-0700
TZNAME:MST
END:STANDARD
END:VTIMEZONE
END:VCALENDAR