BEGIN:VCALENDAR
VERSION:2.0
PRODID:-//wp-events-plugin.com//7.2.3.1//EN
TZID:America/Denver
X-WR-TIMEZONE:America/Denver
BEGIN:VEVENT
UID:1958@westcusterlibrary.org
DTSTART;TZID=America/Denver:20250307T100000
DTEND;TZID=America/Denver:20250307T173000
DTSTAMP:20250219T234848Z
URL:https://www.westcusterlibrary.org/events/free-movie-event-wicked/
SUMMARY:FREE MOVIE EVENT: WICKED
DESCRIPTION:Join us for a Free Movie at the library.\n\nFree snacks and dri
 nks provided.
ATTACH;FMTTYPE=image/jpeg:https://www.westcusterlibrary.org/wp-content/upl
 oads/2025/02/Wicked2.png
CATEGORIES:Adults,Age 9-14,Family,High School Students,Infant to Pre-K
 (ages 0-5),Kids (ages 5-10),Mother &amp; Baby,Senior Adults,Teens (ages
 11-18)
LOCATION:West Custer County Library Community Room\, 209 Main St\, Westclif
 fe\, CO\, United States
GEO:38.136419;-105.467999
X-APPLE-STRUCTURED-LOCATION;VALUE=URI;X-ADDRESS=209 Main St\, Westcliffe\, 
 CO\, United States;X-APPLE-RADIUS=100;X-TITLE=West Custer County Library C
 ommunity Room:geo:38.136419,-105.467999
END:VEVENT
BEGIN:VTIMEZONE
TZID:America/Denver
X-LIC-LOCATION:America/Denver
BEGIN:STANDARD
DTSTART:20241103T010000
TZOFFSETFROM:-0600
TZOFFSETTO:-0700
TZNAME:MST
END:STANDARD
END:VTIMEZONE
END:VCALENDAR